BEGIN:VCALENDAR
VERSION:2.0
PRODID:icalendar-ruby
CALSCALE:GREGORIAN
METHOD:PUBLISH
BEGIN:VEVENT
DTSTAMP:20260421T085733Z
UID:134-1875328@saintpaulsbrookfield.com
DTSTART:20260419T133000Z
DTEND:20260419T143000Z
CLASS:PUBLIC
CREATED:20260420T203559
DESCRIPTION:
LAST-MODIFIED:20260420T203559
LOCATION:Crocker Hall
SUMMARY:Coffee Hour Conversations
URL;VALUE=URI:https://www.saintpaulsbrookfield.com/events/coffee-hour-conve
 rsations/2026-04-19
END:VEVENT
END:VCALENDAR
