BEGIN:VCALENDAR
VERSION:2.0
PRODID:icalendar-ruby
CALSCALE:GREGORIAN
METHOD:PUBLISH
BEGIN:VEVENT
DTSTAMP:20260421T161826Z
UID:134-1877712@saintpaulsbrookfield.com
DTSTART:20260503T133000Z
DTEND:20260503T143000Z
CLASS:PUBLIC
CREATED:20260421T101804
DESCRIPTION:
LAST-MODIFIED:20260421T101804
LOCATION:Crocker Hall
SUMMARY:Coffee Hour Conversations
URL;VALUE=URI:https://www.saintpaulsbrookfield.com/events/coffee-hour-conve
 rsations/2026-05-03
END:VEVENT
END:VCALENDAR
