BEGIN:VCALENDAR
VERSION:2.0
PRODID:icalendar-ruby
CALSCALE:GREGORIAN
METHOD:PUBLISH
BEGIN:VEVENT
DTSTAMP:20260421T174128Z
UID:134-1878905@saintpaulsbrookfield.com
DTSTART:20260510T133000Z
DTEND:20260510T143000Z
CLASS:PUBLIC
CREATED:20260421T125703
DESCRIPTION:
LAST-MODIFIED:20260421T125703
LOCATION:Crocker Hall
SUMMARY:Coffee Hour Conversations
URL;VALUE=URI:https://www.saintpaulsbrookfield.com/events/coffee-hour-conve
 rsations/2026-05-10
END:VEVENT
END:VCALENDAR
