BEGIN:VCALENDAR
VERSION:2.0
PRODID:icalendar-ruby
CALSCALE:GREGORIAN
METHOD:PUBLISH
BEGIN:VEVENT
DTSTAMP:20260421T222538Z
UID:134-1881292@saintpaulsbrookfield.com
DTSTART:20260531T133000Z
DTEND:20260531T143000Z
CLASS:PUBLIC
CREATED:20260421T181138
DESCRIPTION:
LAST-MODIFIED:20260421T181138
LOCATION:Crocker Hall
SUMMARY:Coffee Hour Conversations
URL;VALUE=URI:https://www.saintpaulsbrookfield.com/events/coffee-hour-conve
 rsations/2026-05-31
END:VEVENT
END:VCALENDAR
