BEGIN:VCALENDAR
VERSION:2.0
PRODID:icalendar-ruby
CALSCALE:GREGORIAN
METHOD:PUBLISH
BEGIN:VEVENT
DTSTAMP:20260422T000425Z
UID:134-1881293@saintpaulsbrookfield.com
DTSTART:20260607T133000Z
DTEND:20260608T023000Z
CLASS:PUBLIC
CREATED:20260421T181138
DESCRIPTION:
LAST-MODIFIED:20260421T181138
LOCATION:Crocker Hall
SUMMARY:Coffee Hour Conversations
URL;VALUE=URI:https://www.saintpaulsbrookfield.com/events/coffee-hour-conve
 rsations/2026-06-07
END:VEVENT
END:VCALENDAR
