BEGIN:VCALENDAR
VERSION:2.0
PRODID:icalendar-ruby
CALSCALE:GREGORIAN
METHOD:PUBLISH
BEGIN:VEVENT
DTSTAMP:20260422T091610Z
UID:134-1882491@saintpaulsbrookfield.com
DTSTART:20260719T133000Z
DTEND:20260720T023000Z
CLASS:PUBLIC
CREATED:20260421T205016
DESCRIPTION:
LAST-MODIFIED:20260421T205016
LOCATION:Crocker Hall
SUMMARY:Coffee Hour Conversations
URL;VALUE=URI:https://www.saintpaulsbrookfield.com/events/coffee-hour-conve
 rsations/2026-07-19
END:VEVENT
END:VCALENDAR
