BEGIN:VCALENDAR
VERSION:2.0
PRODID:icalendar-ruby
CALSCALE:GREGORIAN
METHOD:PUBLISH
BEGIN:VEVENT
DTSTAMP:20260422T124622Z
UID:134-1883685@saintpaulsbrookfield.com
DTSTART:20260802T133000Z
DTEND:20260803T023000Z
CLASS:PUBLIC
CREATED:20260422T075410
DESCRIPTION:
LAST-MODIFIED:20260422T075410
LOCATION:Crocker Hall
SUMMARY:Coffee Hour Conversations
URL;VALUE=URI:https://www.saintpaulsbrookfield.com/events/coffee-hour-conve
 rsations/2026-08-02
END:VEVENT
END:VCALENDAR
