BEGIN:VCALENDAR
VERSION:2.0
PRODID:icalendar-ruby
CALSCALE:GREGORIAN
METHOD:PUBLISH
BEGIN:VEVENT
DTSTAMP:20260422T160305Z
UID:134-1884879@saintpaulsbrookfield.com
DTSTART:20260816T133000Z
DTEND:20260817T023000Z
CLASS:PUBLIC
CREATED:20260422T104906
DESCRIPTION:
LAST-MODIFIED:20260422T104906
LOCATION:Crocker Hall
SUMMARY:Coffee Hour Conversations
URL;VALUE=URI:https://www.saintpaulsbrookfield.com/events/coffee-hour-conve
 rsations/2026-08-16
END:VEVENT
END:VCALENDAR
