BEGIN:VCALENDAR
VERSION:2.0
PRODID:icalendar-ruby
CALSCALE:GREGORIAN
METHOD:PUBLISH
BEGIN:VEVENT
DTSTAMP:20260422T173537Z
UID:134-1884880@saintpaulsbrookfield.com
DTSTART:20260823T133000Z
DTEND:20260824T023000Z
CLASS:PUBLIC
CREATED:20260422T104906
DESCRIPTION:
LAST-MODIFIED:20260422T104906
LOCATION:Crocker Hall
SUMMARY:Coffee Hour Conversations
URL;VALUE=URI:https://www.saintpaulsbrookfield.com/events/coffee-hour-conve
 rsations/2026-08-23
END:VEVENT
END:VCALENDAR
