BEGIN:VCALENDAR
VERSION:2.0
PRODID:icalendar-ruby
CALSCALE:GREGORIAN
METHOD:PUBLISH
BEGIN:VEVENT
DTSTAMP:20260422T185750Z
UID:134-1886074@saintpaulsbrookfield.com
DTSTART:20260830T133000Z
DTEND:20260831T023000Z
CLASS:PUBLIC
CREATED:20260422T134417
DESCRIPTION:
LAST-MODIFIED:20260422T134417
LOCATION:Crocker Hall
SUMMARY:Coffee Hour Conversations
URL;VALUE=URI:https://www.saintpaulsbrookfield.com/events/coffee-hour-conve
 rsations/2026-08-30
END:VEVENT
END:VCALENDAR
