BEGIN:VCALENDAR
VERSION:2.0
PRODID:icalendar-ruby
CALSCALE:GREGORIAN
METHOD:PUBLISH
BEGIN:VEVENT
DTSTAMP:20260422T202733Z
UID:134-1886075@saintpaulsbrookfield.com
DTSTART:20260906T133000Z
DTEND:20260907T023000Z
CLASS:PUBLIC
CREATED:20260422T134417
DESCRIPTION:
LAST-MODIFIED:20260422T134417
LOCATION:Crocker Hall
SUMMARY:Coffee Hour Conversations
URL;VALUE=URI:https://www.saintpaulsbrookfield.com/events/coffee-hour-conve
 rsations/2026-09-06
END:VEVENT
END:VCALENDAR
