BEGIN:VCALENDAR
VERSION:2.0
PRODID:icalendar-ruby
CALSCALE:GREGORIAN
METHOD:PUBLISH
BEGIN:VEVENT
DTSTAMP:20260424T110540Z
UID:134-1896827@saintpaulsbrookfield.com
DTSTART:20260927T133000Z
DTEND:20260928T023000Z
CLASS:PUBLIC
CREATED:20260423T222716
DESCRIPTION:
LAST-MODIFIED:20260423T222716
LOCATION:Crocker Hall
SUMMARY:Coffee Hour Conversations
URL;VALUE=URI:https://www.saintpaulsbrookfield.com/events/coffee-hour-conve
 rsations/2026-09-27
END:VEVENT
END:VCALENDAR
