BEGIN:VCALENDAR
VERSION:2.0
PRODID:icalendar-ruby
CALSCALE:GREGORIAN
METHOD:PUBLISH
BEGIN:VEVENT
DTSTAMP:20260424T140939Z
UID:134-1898025@saintpaulsbrookfield.com
DTSTART:20261011T133000Z
DTEND:20261012T023000Z
CLASS:PUBLIC
CREATED:20260424T075541
DESCRIPTION:
LAST-MODIFIED:20260424T075541
LOCATION:Crocker Hall
SUMMARY:Coffee Hour Conversations
URL;VALUE=URI:https://www.saintpaulsbrookfield.com/events/coffee-hour-conve
 rsations/2026-10-11
END:VEVENT
END:VCALENDAR
