BEGIN:VCALENDAR
VERSION:2.0
PRODID:icalendar-ruby
CALSCALE:GREGORIAN
METHOD:PUBLISH
BEGIN:VEVENT
DTSTAMP:20260424T153303Z
UID:134-1899222@saintpaulsbrookfield.com
DTSTART:20261018T133000Z
DTEND:20261019T023000Z
CLASS:PUBLIC
CREATED:20260424T104856
DESCRIPTION:
LAST-MODIFIED:20260424T104856
LOCATION:Crocker Hall
SUMMARY:Coffee Hour Conversations
URL;VALUE=URI:https://www.saintpaulsbrookfield.com/events/coffee-hour-conve
 rsations/2026-10-18
END:VEVENT
END:VCALENDAR
