BEGIN:VCALENDAR
VERSION:2.0
PRODID:icalendar-ruby
CALSCALE:GREGORIAN
METHOD:PUBLISH
BEGIN:VEVENT
DTSTAMP:20260424T171042Z
UID:134-1899223@saintpaulsbrookfield.com
DTSTART:20261025T133000Z
DTEND:20261026T023000Z
CLASS:PUBLIC
CREATED:20260424T104856
DESCRIPTION:
LAST-MODIFIED:20260424T104856
LOCATION:Crocker Hall
SUMMARY:Coffee Hour Conversations
URL;VALUE=URI:https://www.saintpaulsbrookfield.com/events/coffee-hour-conve
 rsations/2026-10-25
END:VEVENT
END:VCALENDAR
