BEGIN:VCALENDAR
VERSION:2.0
PRODID:icalendar-ruby
CALSCALE:GREGORIAN
METHOD:PUBLISH
BEGIN:VEVENT
DTSTAMP:20260424T183542Z
UID:134-1900420@saintpaulsbrookfield.com
DTSTART:20261101T143000Z
DTEND:20261102T033000Z
CLASS:PUBLIC
CREATED:20260424T133618
DESCRIPTION:
LAST-MODIFIED:20260424T133618
LOCATION:Crocker Hall
SUMMARY:Coffee Hour Conversations
URL;VALUE=URI:https://www.saintpaulsbrookfield.com/events/coffee-hour-conve
 rsations/2026-11-01
END:VEVENT
END:VCALENDAR
