BEGIN:VCALENDAR
VERSION:2.0
PRODID:icalendar-ruby
CALSCALE:GREGORIAN
METHOD:PUBLISH
BEGIN:VEVENT
DTSTAMP:20260421T135335Z
UID:133-1876492@saintpaulsbrookfield.com
DTSTART:20260503T143000Z
DTEND:20260503T153000Z
CLASS:PUBLIC
CREATED:20260421T074228
DESCRIPTION:
LAST-MODIFIED:20260421T074228
LOCATION:
SUMMARY:Sunday 10:30 a.m. Contemporary Holy Communion 
URL;VALUE=URI:https://www.saintpaulsbrookfield.com/events/sunday-10-30-a-m-
 contemporary-holy-communion/2026-05-03
END:VEVENT
END:VCALENDAR
