BEGIN:VCALENDAR
VERSION:2.0
PRODID:icalendar-ruby
CALSCALE:GREGORIAN
METHOD:PUBLISH
BEGIN:VEVENT
DTSTAMP:20260421T193500Z
UID:133-1880070@saintpaulsbrookfield.com
DTSTART:20260524T143000Z
DTEND:20260524T160000Z
CLASS:PUBLIC
CREATED:20260421T153359
DESCRIPTION:
LAST-MODIFIED:20260421T153359
LOCATION:
SUMMARY:Sunday 10:30 a.m. Contemporary Holy Communion 
URL;VALUE=URI:https://www.saintpaulsbrookfield.com/events/sunday-10-30-a-m-
 contemporary-holy-communion/2026-05-24
END:VEVENT
END:VCALENDAR
