BEGIN:VCALENDAR
VERSION:2.0
PRODID:icalendar-ruby
CALSCALE:GREGORIAN
METHOD:PUBLISH
BEGIN:VEVENT
DTSTAMP:20260421T230919Z
UID:133-1881264@saintpaulsbrookfield.com
DTSTART:20260607T143000Z
DTEND:20260607T160000Z
CLASS:PUBLIC
CREATED:20260421T181138
DESCRIPTION:
LAST-MODIFIED:20260421T181138
LOCATION:
SUMMARY:Sunday 10:30 a.m. Contemporary Holy Communion 
URL;VALUE=URI:https://www.saintpaulsbrookfield.com/events/sunday-10-30-a-m-
 contemporary-holy-communion/2026-06-07
END:VEVENT
END:VCALENDAR
