BEGIN:VCALENDAR
VERSION:2.0
PRODID:icalendar-ruby
CALSCALE:GREGORIAN
METHOD:PUBLISH
BEGIN:VEVENT
DTSTAMP:20260422T004801Z
UID:133-1881265@saintpaulsbrookfield.com
DTSTART:20260614T143000Z
DTEND:20260614T160000Z
CLASS:PUBLIC
CREATED:20260421T181138
DESCRIPTION:
LAST-MODIFIED:20260421T181138
LOCATION:
SUMMARY:Sunday 10:30 a.m. Contemporary Holy Communion 
URL;VALUE=URI:https://www.saintpaulsbrookfield.com/events/sunday-10-30-a-m-
 contemporary-holy-communion/2026-06-14
END:VEVENT
END:VCALENDAR
