BEGIN:VCALENDAR
VERSION:2.0
PRODID:icalendar-ruby
CALSCALE:GREGORIAN
METHOD:PUBLISH
BEGIN:VEVENT
DTSTAMP:20260422T023056Z
UID:133-1882458@saintpaulsbrookfield.com
DTSTART:20260621T143000Z
DTEND:20260621T160000Z
CLASS:PUBLIC
CREATED:20260421T205015
DESCRIPTION:
LAST-MODIFIED:20260421T205015
LOCATION:
SUMMARY:Sunday 10:30 a.m. Contemporary Holy Communion 
URL;VALUE=URI:https://www.saintpaulsbrookfield.com/events/sunday-10-30-a-m-
 contemporary-holy-communion/2026-06-21
END:VEVENT
END:VCALENDAR
