BEGIN:VCALENDAR
VERSION:2.0
PRODID:icalendar-ruby
CALSCALE:GREGORIAN
METHOD:PUBLISH
BEGIN:VEVENT
DTSTAMP:20260422T120054Z
UID:133-1883656@saintpaulsbrookfield.com
DTSTART:20260802T143000Z
DTEND:20260802T160000Z
CLASS:PUBLIC
CREATED:20260422T075410
DESCRIPTION:
LAST-MODIFIED:20260422T075410
LOCATION:
SUMMARY:Sunday 10:30 a.m. Contemporary Holy Communion 
URL;VALUE=URI:https://www.saintpaulsbrookfield.com/events/sunday-10-30-a-m-
 contemporary-holy-communion/2026-08-02
END:VEVENT
END:VCALENDAR
