BEGIN:VCALENDAR
VERSION:2.0
PRODID:icalendar-ruby
CALSCALE:GREGORIAN
METHOD:PUBLISH
BEGIN:VEVENT
DTSTAMP:20260424T112541Z
UID:133-1896796@saintpaulsbrookfield.com
DTSTART:20260913T143000Z
DTEND:20260913T160000Z
CLASS:PUBLIC
CREATED:20260423T222716
DESCRIPTION:
LAST-MODIFIED:20260423T222716
LOCATION:
SUMMARY:Sunday 10:30 a.m. Contemporary Holy Communion 
URL;VALUE=URI:https://www.saintpaulsbrookfield.com/events/sunday-10-30-a-m-
 contemporary-holy-communion/2026-09-13
END:VEVENT
END:VCALENDAR
