BEGIN:VCALENDAR
VERSION:2.0
PRODID:icalendar-ruby
CALSCALE:GREGORIAN
METHOD:PUBLISH
BEGIN:VEVENT
DTSTAMP:20260424T142548Z
UID:133-1897994@saintpaulsbrookfield.com
DTSTART:20260927T143000Z
DTEND:20260927T160000Z
CLASS:PUBLIC
CREATED:20260424T075541
DESCRIPTION:
LAST-MODIFIED:20260424T075541
LOCATION:
SUMMARY:Sunday 10:30 a.m. Contemporary Holy Communion 
URL;VALUE=URI:https://www.saintpaulsbrookfield.com/events/sunday-10-30-a-m-
 contemporary-holy-communion/2026-09-27
END:VEVENT
END:VCALENDAR
