BEGIN:VCALENDAR
VERSION:2.0
PRODID:icalendar-ruby
CALSCALE:GREGORIAN
METHOD:PUBLISH
BEGIN:VEVENT
DTSTAMP:20260424T154749Z
UID:133-1899191@saintpaulsbrookfield.com
DTSTART:20261004T143000Z
DTEND:20261004T160000Z
CLASS:PUBLIC
CREATED:20260424T104856
DESCRIPTION:
LAST-MODIFIED:20260424T104856
LOCATION:
SUMMARY:Sunday 10:30 a.m. Contemporary Holy Communion 
URL;VALUE=URI:https://www.saintpaulsbrookfield.com/events/sunday-10-30-a-m-
 contemporary-holy-communion/2026-10-04
END:VEVENT
END:VCALENDAR
