BEGIN:VCALENDAR
VERSION:2.0
PRODID:icalendar-ruby
CALSCALE:GREGORIAN
METHOD:PUBLISH
BEGIN:VEVENT
DTSTAMP:20260419T144859Z
UID:132-1821771@saintpaulsbrookfield.com
DTSTART:20260419T120000Z
DTEND:20260419T130000Z
CLASS:PUBLIC
CREATED:20260413T141158
DESCRIPTION:
LAST-MODIFIED:20260413T141158
LOCATION:Sanctuary
SUMMARY:Sunday 8:00 am Service Traditional Holy Communion 
URL;VALUE=URI:https://www.saintpaulsbrookfield.com/events/sunday-8-00-am-se
 rvice-traditional-holy-communion/2026-04-19
END:VEVENT
END:VCALENDAR
