BEGIN:VCALENDAR
VERSION:2.0
PRODID:icalendar-ruby
CALSCALE:GREGORIAN
METHOD:PUBLISH
BEGIN:VEVENT
DTSTAMP:20260419T175718Z
UID:132-1821773@saintpaulsbrookfield.com
DTSTART:20260503T120000Z
DTEND:20260503T190000Z
CLASS:PUBLIC
CREATED:20260413T141158
DESCRIPTION:
LAST-MODIFIED:20260413T141158
LOCATION:Sanctuary
SUMMARY:Sunday 8:00 am Service Traditional Holy Communion 
URL;VALUE=URI:https://www.saintpaulsbrookfield.com/events/sunday-8-00-am-se
 rvice-traditional-holy-communion/2026-05-03
END:VEVENT
END:VCALENDAR
