BEGIN:VCALENDAR
VERSION:2.0
PRODID:icalendar-ruby
CALSCALE:GREGORIAN
METHOD:PUBLISH
BEGIN:VEVENT
DTSTAMP:20260420T074213Z
UID:132-1821782@saintpaulsbrookfield.com
DTSTART:20260705T120000Z
DTEND:20260705T190000Z
CLASS:PUBLIC
CREATED:20260413T141158
DESCRIPTION:
LAST-MODIFIED:20260413T141158
LOCATION:Sanctuary
SUMMARY:Sunday 8:00 am Service Traditional Holy Communion 
URL;VALUE=URI:https://www.saintpaulsbrookfield.com/events/sunday-8-00-am-se
 rvice-traditional-holy-communion/2026-07-05
END:VEVENT
END:VCALENDAR
